{
 "currentVersion": 11.2,
 "serviceDescription": "C-CAP Land Cover2005-2011 EnviroAtlas Version for Hawaii",
 "name": "Supplemental/CCAP_Land_Cover_2005_2011_EnviroAtlasVersion_HI_WM",
 "description": "C-CAP Land Cover2005-2011 EnviroAtlas Version for Hawaii",
 "extent": {
  "xmin": -1.784380578397828E7,
  "ymin": 2141432.1303995387,
  "xmax": -1.722867858397828E7,
  "ymax": 2542572.9303995385,
  "spatialReference": {
   "wkid": 102100,
   "latestWkid": 3857
  }
 },
 "initialExtent": {
  "xmin": -1.784380578397828E7,
  "ymin": 2141432.1303995387,
  "xmax": -1.722867858397828E7,
  "ymax": 2542572.9303995385,
  "spatialReference": {
   "wkid": 102100,
   "latestWkid": 3857
  }
 },
 "fullExtent": {
  "xmin": -1.784380578397828E7,
  "ymin": 2141432.1303995387,
  "xmax": -1.722867858397828E7,
  "ymax": 2542572.9303995385,
  "spatialReference": {
   "wkid": 102100,
   "latestWkid": 3857
  }
 },
 "sortableFields": "",
 "bandCount": 1,
 "pixelType": "U8",
 "minValues": [
  1
 ],
 "maxValues": [
  22
 ],
 "meanValues": [
  11.608199951751923
 ],
 "stdvValues": [
  4.80641446985678
 ],
 "hasMultidimensions": false,
 "pixelSizeX": 2.3999999999999972,
 "pixelSizeY": 2.399999999999999,
 "meanPixelSize": 2.399999999999998,
 "datasetFormat": "FGDBR",
 "uncompressedSize": 42838828884,
 "blockWidth": 128,
 "blockHeight": 128,
 "compressionType": "LZ77",
 "bandNames": [
  "Band_1"
 ],
 "allowCopy": false,
 "allowAnalysis": true,
 "itemAccess": false,
 "inspectionCapabilities": "",
 "minPixelSize": 0,
 "maxPixelSize": 0,
 "copyrightText": "",
 "serviceDataType": "esriImageServiceDataTypeThematic",
 "serviceSourceType": "esriImageServiceSourceTypeDataset",
 "objectIdField": "",
 "fields": [],
 "capabilities": "Mensuration,Image,Metadata",
 "defaultMosaicMethod": "Center",
 "allowedMosaicMethods": "",
 "sortField": "",
 "sortValue": null,
 "sortAscending": true,
 "mosaicOperator": "First",
 "defaultCompressionQuality": 75,
 "defaultResamplingMethod": "Nearest",
 "maxImageHeight": 4100,
 "maxImageWidth": 15000,
 "allowRasterFunction": true,
 "rasterFunctionInfos": [
  {
   "name": "CCAPwUnclass",
   "description": "C-CAP for Hawaii with unclassified label",
   "help": ""
  },
  {
   "name": "CCAP Land Use",
   "description": "Attribute Table containing Land Use symbology and popup text for CCAP Land Use",
   "help": ""
  },
  {
   "name": "None",
   "description": "Make a Raster or Raster Dataset into a Function Raster Dataset.",
   "help": ""
  }
 ],
 "rasterTypeInfos": [
  {
   "name": "Raster Dataset",
   "description": "Supports all ArcGIS Raster Datasets",
   "help": ""
  }
 ],
 "mensurationCapabilities": "Basic",
 "hasHistograms": true,
 "hasColormap": false,
 "hasRasterAttributeTable": true,
 "minScale": 0,
 "maxScale": 0,
 "exportTilesAllowed": false,
 "supportsStatistics": false,
 "supportsAdvancedQueries": false,
 "editFieldsInfo": null,
 "ownershipBasedAccessControlForRasters": null,
 "allowComputeTiePoints": false,
 "useStandardizedQueries": true,
 "advancedQueryCapabilities": {
  "useStandardizedQueries": true,
  "supportsStatistics": false,
  "supportsOrderBy": false,
  "supportsDistinct": false,
  "supportsPagination": false
 },
 "spatialReference": {
  "wkid": 102100,
  "latestWkid": 3857
 },
 "resampling": false
}
