View In:
ArcGIS JavaScript
ArcGIS Online Map Viewer
ArcGIS Earth
Service Description: Rasters/CCAP_Land_Cover_2005_2011_EnviroAtlasVersion_HI_WM
Name: Rasters/CCAP_Land_Cover_2005_2011_EnviroAtlasVersion_HI_WM
Description:
Single Fused Map Cache: false
Extent:
XMin: -1.784380578397828E7
YMin: 2141432.1303995387
XMax: -1.722867858397828E7
YMax: 2542572.9303995385
Spatial Reference: 102100
(3857)
Initial Extent:
XMin: -1.784380578397828E7
YMin: 2141432.1303995387
XMax: -1.722867858397828E7
YMax: 2542572.9303995385
Spatial Reference: 102100
(3857)
Full Extent:
XMin: -1.784380578397828E7
YMin: 2141432.1303995387
XMax: -1.722867858397828E7
YMax: 2542572.9303995385
Spatial Reference: 102100
(3857)
Pixel Size X: 2.3999999999999972
Pixel Size Y: 2.399999999999999
Band Count: 1
Pixel Type: U8
RasterFunction Infos: {"rasterFunctionInfos": [
{
"name": "CCAP Land Use",
"description": "Attribute Table containing Land Use symbology and popup text for CCAP Land Use",
"help": ""
},
{
"name": "None",
"description": "Make a Raster or Raster Dataset into a Function Raster Dataset.",
"help": ""
}
]}
Mensuration Capabilities: Basic
Has Histograms: true
Has Colormap: false
Has Multi Dimensions : false
Rendering Rule:
Min Scale: 0
Max Scale: 0
Copyright Text:
Service Data Type: esriImageServiceDataTypeThematic
Min Values: 1
Max Values: 22
Mean Values: 11.608199951751923
Standard Deviation Values: 4.80641446985678
Object ID Field:
Fields:
None
Default Mosaic Method: Center
Allowed Mosaic Methods:
SortField:
SortValue: null
Mosaic Operator: First
Default Compression Quality: 75
Default Resampling Method: Bilinear
Max Record Count: null
Max Image Height: 4100
Max Image Width: 15000
Max Download Image Count: null
Max Mosaic Image Count: null
Allow Raster Function: true
Allow Copy: true
Allow Analysis: true
Allow Compute TiePoints: false
Supports Statistics: false
Supports Advanced Queries: false
Use StandardizedQueries: true
Raster Type Infos:
Name: Raster Dataset
Description: Supports all ArcGIS Raster Datasets
Help:
Has Raster Attribute Table: true
Edit Fields Info: null
Ownership Based AccessControl For Rasters: null
Child Resources:
Info
Raster Attribute Table
Histograms
Statistics
Key Properties
Legend
Raster Function Infos
Supported Operations:
Export Image
Identify
Measure
Compute Histograms
Compute Statistics Histograms
Get Samples
Compute Class Statistics
Query Boundary
Compute Pixel Location
Compute Angles
Validate
Project