View In:
ArcGIS JavaScript
ArcGIS Online Map Viewer
ArcGIS Earth
Service Description: Rasters/CCAP_Land_Cover_2010_2012_EnviroAtlasVersion_PRVI_WM
Name: Rasters/CCAP_Land_Cover_2010_2012_EnviroAtlasVersion_PRVI_WM
Description:
Single Fused Map Cache: false
Extent:
XMin: -7490770.308784378
YMin: 1995087.960328632
XMax: -7185154.308784378
YMax: 2100901.960328632
Spatial Reference: 102100
(3857)
Initial Extent:
XMin: -7490770.308784378
YMin: 1995087.960328632
XMax: -7185154.308784378
YMax: 2100901.960328632
Spatial Reference: 102100
(3857)
Full Extent:
XMin: -7490770.308784378
YMin: 1995087.960328632
XMax: -7185154.308784378
YMax: 2100901.960328632
Spatial Reference: 102100
(3857)
Pixel Size X: 2.0
Pixel Size Y: 2.0
Band Count: 1
Pixel Type: U8
RasterFunction Infos: {"rasterFunctionInfos": [
{
"name": "CCAP Land Use",
"description": "Attribute Table containing Land Use symbology and popup text for CCAP Land Use",
"help": ""
},
{
"name": "None",
"description": "Make a Raster or Raster Dataset into a Function Raster Dataset.",
"help": ""
}
]}
Mensuration Capabilities: Basic
Has Histograms: true
Has Colormap: false
Has Multi Dimensions : false
Rendering Rule:
Min Scale: 0
Max Scale: 0
Copyright Text:
Service Data Type: esriImageServiceDataTypeThematic
Min Values: 2
Max Values: 23
Mean Values: 10.350583981513214
Standard Deviation Values: 4.142659224429816
Object ID Field:
Fields:
None
Default Mosaic Method: Center
Allowed Mosaic Methods:
SortField:
SortValue: null
Mosaic Operator: First
Default Compression Quality: 75
Default Resampling Method: Bilinear
Max Record Count: null
Max Image Height: 4100
Max Image Width: 15000
Max Download Image Count: null
Max Mosaic Image Count: null
Allow Raster Function: true
Allow Copy: true
Allow Analysis: true
Allow Compute TiePoints: false
Supports Statistics: false
Supports Advanced Queries: false
Use StandardizedQueries: true
Raster Type Infos:
Name: Raster Dataset
Description: Supports all ArcGIS Raster Datasets
Help:
Has Raster Attribute Table: true
Edit Fields Info: null
Ownership Based AccessControl For Rasters: null
Child Resources:
Info
Raster Attribute Table
Histograms
Statistics
Key Properties
Legend
Raster Function Infos
Supported Operations:
Export Image
Identify
Measure
Compute Histograms
Compute Statistics Histograms
Get Samples
Compute Class Statistics
Query Boundary
Compute Pixel Location
Compute Angles
Validate
Project