View In:
ArcGIS JavaScript
ArcGIS Online Map Viewer
ArcGIS Earth
Service Description: Full Metadata This EnviroAtlas web service supports research and online mapping activities related to EnviroAtlas (https://www.epa.gov/enviroatlas). The EnviroAtlas One Meter-scale Urban Land Cover (MULC) Data were generated individually for each EnviroAtlas community to provide a detailed view of the urban environment for analysis of multiple human and ecosystem health metrics and services. Source imagery varies by community. Land cover classes mapped also vary by community and include the following: water, impervious surfaces, soil and barren land, trees, shrub, grass and herbaceous, agriculture, orchards, woody wetlands, and emergent wetlands. Accuracy assessments were completed for each community's classification. For specific information about methods and accuracy of each community's land cover classification, consult their individual metadata records: Austin, TX; Cleveland, OH; Des Moines, IA; Durham, NC; Fresno, CA; Green Bay, WI; Memphis, TN; Milwaukee, WI; Minneapolis/St. Paul, MN; New Bedford, MA; New York, NY; Phoenix, AZ; Pittsburgh, PA; Portland, ME; Paterson, NJ; Portland, OR; Tampa, FL; and Woodbine, IA.
Name: Supplemental/Landcover_AllCommunities
Description: Full Metadata This EnviroAtlas web service supports research and online mapping activities related to EnviroAtlas (https://www.epa.gov/enviroatlas). The EnviroAtlas One Meter-scale Urban Land Cover (MULC) Data were generated individually for each EnviroAtlas community to provide a detailed view of the urban environment for analysis of multiple human and ecosystem health metrics and services. Source imagery varies by community. Land cover classes mapped also vary by community and include the following: water, impervious surfaces, soil and barren land, trees, shrub, grass and herbaceous, agriculture, orchards, woody wetlands, and emergent wetlands. Accuracy assessments were completed for each community's classification. For specific information about methods and accuracy of each community's land cover classification, consult their individual metadata records: Austin, TX; Cleveland, OH; Des Moines, IA; Durham, NC; Fresno, CA; Green Bay, WI; Memphis, TN; Milwaukee, WI; Minneapolis/St. Paul, MN; New Bedford, MA; New York, NY; Phoenix, AZ; Pittsburgh, PA; Portland, ME; Paterson, NJ; Portland, OR; Tampa, FL; and Woodbine, IA.
Single Fused Map Cache: false
Extent:
XMin: -13755239
YMin: 2977419
XMax: -7799784
YMax: 6009783
Spatial Reference: 102100
(3857)
Initial Extent:
XMin: -13755239
YMin: 2977419
XMax: -7799784
YMax: 6009783
Spatial Reference: 102100
(3857)
Full Extent:
XMin: -13755239
YMin: 2977419
XMax: -7799784
YMax: 6009783
Spatial Reference: 102100
(3857)
Pixel Size X: 1.0
Pixel Size Y: 1.0
Band Count: 1
Pixel Type: U8
RasterFunction Infos: {"rasterFunctionInfos": [{
"name": "None",
"description": "A No-Op Function.",
"help": ""
}]}
Mensuration Capabilities:
Has Histograms: true
Has Colormap: false
Has Multi Dimensions : false
Rendering Rule:
Min Scale: 0
Max Scale: 0
Copyright Text: USEPA ORD EnviroAtlas
Service Data Type: esriImageServiceDataTypeThematic
Min Values: 0
Max Values: 92
Mean Values: 46.270976285060705
Standard Deviation Values: 25.11518140790026
Object ID Field: OBJECTID
Fields:
-
OBJECTID
(
type: esriFieldTypeOID, alias: OBJECTID
)
-
Shape
(
type: esriFieldTypeGeometry, alias: Shape
)
-
Name
(
type: esriFieldTypeString, alias: Name, length: 200
)
-
MinPS
(
type: esriFieldTypeDouble, alias: MinPS
)
-
MaxPS
(
type: esriFieldTypeDouble, alias: MaxPS
)
-
LowPS
(
type: esriFieldTypeDouble, alias: LowPS
)
-
HighPS
(
type: esriFieldTypeDouble, alias: HighPS
)
-
Category
(
type: esriFieldTypeInteger, alias: Category
, Coded Values:
[0: Unknown]
, [1: Primary]
, [2: Overview]
, ...6 more...
)
-
Tag
(
type: esriFieldTypeString, alias: Tag, length: 100
)
-
GroupName
(
type: esriFieldTypeString, alias: GroupName, length: 100
)
-
ProductName
(
type: esriFieldTypeString, alias: ProductName, length: 100
)
-
CenterX
(
type: esriFieldTypeDouble, alias: CenterX
)
-
CenterY
(
type: esriFieldTypeDouble, alias: CenterY
)
-
ZOrder
(
type: esriFieldTypeInteger, alias: ZOrder
)
-
Shape_Length
(
type: esriFieldTypeDouble, alias: Shape_Length
)
-
Shape_Area
(
type: esriFieldTypeDouble, alias: Shape_Area
)
Default Mosaic Method: Northwest
Allowed Mosaic Methods: NorthWest,Center,LockRaster,ByAttribute,Nadir,Viewpoint,Seamline,None
SortField:
SortValue: null
Mosaic Operator: First
Default Compression Quality: 75
Default Resampling Method: Nearest
Max Record Count: 1000
Max Image Height: 4100
Max Image Width: 15000
Max Download Image Count: 20
Max Mosaic Image Count: 30
Allow Raster Function: true
Allow Copy: true
Allow Analysis: true
Allow Compute TiePoints: false
Supports Statistics: true
Supports Advanced Queries: true
Use StandardizedQueries: true
Raster Type Infos:
Name: Raster Dataset
Description: Supports all ArcGIS Raster Datasets
Help:
Has Raster Attribute Table: true
Edit Fields Info: null
Ownership Based AccessControl For Rasters: null
Child Resources:
Info
Raster Attribute Table
Histograms
Statistics
Key Properties
Legend
Raster Function Infos
Supported Operations:
Export Image
Query
Identify
Compute Histograms
Compute Statistics Histograms
Get Samples
Compute Class Statistics
Query Boundary
Compute Pixel Location
Compute Angles
Validate
Project